BEGIN:VCALENDAR
VERSION:2.0
PRODID:-//Angela Ahıskal - ECPv6.8.1//NONSGML v1.0//EN
CALSCALE:GREGORIAN
METHOD:PUBLISH
X-WR-CALNAME:Angela Ahıskal
X-ORIGINAL-URL:https://angelaahiskal.com
X-WR-CALDESC:Events for Angela Ahıskal
REFRESH-INTERVAL;VALUE=DURATION:PT1H
X-Robots-Tag:noindex
X-PUBLISHED-TTL:PT1H
BEGIN:VTIMEZONE
TZID:Europe/Berlin
BEGIN:DAYLIGHT
TZOFFSETFROM:+0100
TZOFFSETTO:+0200
TZNAME:CEST
DTSTART:20210328T010000
END:DAYLIGHT
BEGIN:STANDARD
TZOFFSETFROM:+0200
TZOFFSETTO:+0100
TZNAME:CET
DTSTART:20211031T010000
END:STANDARD
END:VTIMEZONE
BEGIN:VEVENT
DTSTART;TZID=Europe/Berlin:20211023T160000
DTEND;TZID=Europe/Berlin:20211023T173000
DTSTAMP:20260421T220125
CREATED:20211018T075525Z
LAST-MODIFIED:20230621T141716Z
UID:766-1635004800-1635010200@angelaahiskal.com
SUMMARY:"Luftschloss" Liederabend
DESCRIPTION:Join us for an eclectic evening of classical song by composers Respighi\, Bernstein\, R. Strauss\, Schoenberg\, Barber\, Wolf\, Satie and Grieg – you won’t want to miss it! \nLovers’ capriciousness\, faeries on the wing\, a child’s precociousness – they all may change direction like smoke in the wind. This is the whimsical world of dreams. The “Luftschloss” (Castle in the Air) program was conceived with this notion in mind. Sometimes wistful\, sometimes comic\, at other times almost desparate\, the pieces themselves conjure images of dreams and fanciful circumstances. Additionally\, the nature of each set is very different from the others – a continual shifting from one reflection to the next\, as our whims so often do. \n 
URL:https://angelaahiskal.com/event/luftschloss-liederabend/
LOCATION:Academic Choral Society Munich\, Ledererstraße 5\, Munich\, 80331\, Germany
CATEGORIES:Ensemble
ATTACH;FMTTYPE=image/jpeg:https://angelaahiskal.com/wp-content/uploads/2021/10/Whimsy-Copy-2.jpg
END:VEVENT
END:VCALENDAR