BEGIN:VCALENDAR
VERSION:2.0
PRODID:-//Angela Ahıskal - ECPv6.8.1//NONSGML v1.0//EN
CALSCALE:GREGORIAN
METHOD:PUBLISH
X-WR-CALNAME:Angela Ahıskal
X-ORIGINAL-URL:https://angelaahiskal.com
X-WR-CALDESC:Events for Angela Ahıskal
REFRESH-INTERVAL;VALUE=DURATION:PT1H
X-Robots-Tag:noindex
X-PUBLISHED-TTL:PT1H
BEGIN:VTIMEZONE
TZID:Europe/Berlin
BEGIN:DAYLIGHT
TZOFFSETFROM:+0100
TZOFFSETTO:+0200
TZNAME:CEST
DTSTART:20220327T010000
END:DAYLIGHT
BEGIN:STANDARD
TZOFFSETFROM:+0200
TZOFFSETTO:+0100
TZNAME:CET
DTSTART:20221030T010000
END:STANDARD
END:VTIMEZONE
BEGIN:VEVENT
DTSTART;TZID=Europe/Berlin:20220529T190000
DTEND;TZID=Europe/Berlin:20220529T210000
DTSTAMP:20260421T123627
CREATED:20220105T181537Z
LAST-MODIFIED:20230621T141316Z
UID:823-1653850800-1653858000@angelaahiskal.com
SUMMARY:Tonedmelisma New Music Festival
DESCRIPTION:Angela Ahiskal\, soprano\nMikhail Berlin\, piano\nTrio Coriolis \nWorks by Respighi\, Strauss\, Bernstein \n 
URL:https://angelaahiskal.com/event/tonedmelisma-new-music-festival/
LOCATION:Academic Choral Society Munich\, Ledererstraße 5\, Munich\, 80331\, Germany
CATEGORIES:Ensemble
ATTACH;FMTTYPE=image/png:https://angelaahiskal.com/wp-content/uploads/2022/01/TM_Logo_Stacked_Black.png
END:VEVENT
END:VCALENDAR